BEGIN:VCALENDAR
VERSION:2.0
PRODID:icalendar-ruby
CALSCALE:GREGORIAN
METHOD:PUBLISH
BEGIN:VEVENT
DTSTAMP:20260421T113645Z
UID:232-76452@rockcityfellowship.com
DTSTART:20260517T223000Z
DTEND:20260517T233000Z
CLASS:PUBLIC
CREATED:20260416T084613
DESCRIPTION:Our Women’s Rock Group will resume Sunday\, April 19th\, meet
 ing every other week at the church starting at 5:30 and ending at 7:30pm.
   All Rock City women and friends are invited!  We will be studying Jenn
 ie Allen’s new book “The Lie You Don't Know You Believe: How to Find I
 t\, Fight It\, and Live Free.” This book is about transferring your life
  out of the enemy’s kingdom of lies and into the kingdom of light.\n\nIn
  our meetings we will watch the short video that goes along with the book.
   You do not have to purchase the book to participate in the study but I 
 highly encourage you to do so. \n\n
LAST-MODIFIED:20260416T084613
LOCATION:Rock City Fellowship - 2124 Hwy 67 North\, Midlothian\, TX
SUMMARY:Women's Rock Group
URL;VALUE=URI:https://rockcityfellowship.com/events/womens-rock-group--232/
 2026-05-17
ATTACH;FILENAME=Women%27s-Rock-Group.png;FMTTYPE=image/png:https://dq5pwpg1
 q8ru0.cloudfront.net/2026/04/16/13/41/33/187fa21d-2812-467c-a140-35188b5d6
 8a9/Women%2527s-Rock-Group.png
END:VEVENT
END:VCALENDAR
